BEGIN:VCALENDAR
VERSION:2.0
PRODID:-//https://utrecht.hcc.nl///NONSGML kigkonsult.se iCalcreator 2.10.15//
METHOD:PUBLISH
BEGIN:VEVENT
UID:20260421T201153CEST-9714lxZLVu@https://utrecht.hcc.nl/
DTSTAMP:20260421T181153Z
DESCRIPTION:Presentatie en inloop https://utrecht.hcc.nl/component/rsevents
 pro/evenement/221-presentatie-en-inloop?Itemid=101
DTSTART:20260511T173000Z
DTEND:20260511T200000Z
LOCATION:Fort Vreeswijk (Fort Vreeswijk 1\, 3433 ZZ Nieuwegein)
SUMMARY:Presentatie en inloop
URL:https://utrecht.hcc.nl/component/rseventspro/evenement/221-presentatie-
 en-inloop?Itemid=101
END:VEVENT
BEGIN:VEVENT
UID:20260421T201153CEST-97151UA5vZ@https://utrecht.hcc.nl/
DTSTAMP:20260421T181153Z
DESCRIPTION:Presentatie en inloop https://utrecht.hcc.nl/component/rsevents
 pro/evenement/222-presentatie-en-inloop?Itemid=101
DTSTART:20260608T173000Z
DTEND:20260608T200000Z
LOCATION:Fort Vreeswijk (Fort Vreeswijk 1\, 3433 ZZ Nieuwegein)
SUMMARY:Presentatie en inloop
URL:https://utrecht.hcc.nl/component/rseventspro/evenement/222-presentatie-
 en-inloop?Itemid=101
END:VEVENT
BEGIN:VEVENT
UID:20260421T201153CEST-9716dxO1IN@https://utrecht.hcc.nl/
DTSTAMP:20260421T181153Z
DESCRIPTION:Presentatie en inloop https://utrecht.hcc.nl/component/rsevents
 pro/evenement/226-presentatie-en-inloop?Itemid=101
DTSTART:20260418T130000Z
DTEND:20260418T130000Z
LOCATION:De Brug (Schuilenburgerweg  2\, 3816 TB Amersfoort)
SUMMARY:Presentatie en inloop
URL:https://utrecht.hcc.nl/component/rseventspro/evenement/226-presentatie-
 en-inloop?Itemid=101
END:VEVENT
BEGIN:VEVENT
UID:20260421T201153CEST-9717EuZDfM@https://utrecht.hcc.nl/
DTSTAMP:20260421T181153Z
DESCRIPTION:Presentatie en inloop https://utrecht.hcc.nl/component/rsevents
 pro/evenement/227-presentatie-en-inloop?Itemid=101
DTSTART:20260518T183000Z
DTEND:20260518T210000Z
LOCATION:De Brug (Schuilenburgerweg  2\, 3816 TB Amersfoort)
SUMMARY:Presentatie en inloop
URL:https://utrecht.hcc.nl/component/rseventspro/evenement/227-presentatie-
 en-inloop?Itemid=101
END:VEVENT
BEGIN:VEVENT
UID:20260421T201153CEST-9718A8CK9j@https://utrecht.hcc.nl/
DTSTAMP:20260421T181153Z
DESCRIPTION:Presentatie en inloop https://utrecht.hcc.nl/component/rsevents
 pro/evenement/228-presentatie-en-inloop?Itemid=101
DTSTART:20260615T183000Z
DTEND:20260615T210000Z
LOCATION:De Brug (Schuilenburgerweg  2\, 3816 TB Amersfoort)
SUMMARY:Presentatie en inloop
URL:https://utrecht.hcc.nl/component/rseventspro/evenement/228-presentatie-
 en-inloop?Itemid=101
END:VEVENT
BEGIN:VEVENT
UID:20260421T201153CEST-9718RPw06l@https://utrecht.hcc.nl/
DTSTAMP:20260421T181153Z
DESCRIPTION:Presentatie en inloop https://utrecht.hcc.nl/component/rsevents
 pro/evenement/229-presentatie-en-inloop?Itemid=101
DTSTART:20260921T183000Z
DTEND:20260921T210000Z
LOCATION:De Brug (Schuilenburgerweg  2\, 3816 TB Amersfoort)
SUMMARY:Presentatie en inloop
URL:https://utrecht.hcc.nl/component/rseventspro/evenement/229-presentatie-
 en-inloop?Itemid=101
END:VEVENT
BEGIN:VEVENT
UID:20260421T201153CEST-9719wwFTUf@https://utrecht.hcc.nl/
DTSTAMP:20260421T181153Z
DESCRIPTION:Werkgroep Linux bijeenkomst https://utrecht.hcc.nl/component/rs
 eventspro/evenement/241-werkgroep-linux-regio-utrecht?Itemid=101
DTSTART:20260523T113000Z
DTEND:20260523T143000Z
LOCATION:Fort Vreeswijk (Fort Vreeswijk 1\, 3433 ZZ Nieuwegein)
SUMMARY:Werkgroep Linux regio Utrecht
URL:https://utrecht.hcc.nl/component/rseventspro/evenement/241-werkgroep-li
 nux-regio-utrecht?Itemid=101
END:VEVENT
BEGIN:VEVENT
UID:20260421T201153CEST-972041Bm5V@https://utrecht.hcc.nl/
DTSTAMP:20260421T181153Z
DESCRIPTION:Algemene Leden Vergadering Regio Utrecht\nVoor verdere informat
 ie zie de website&nbsp\; https://utrecht.hcc.nl/component/rseventspro/even
 ement/242-algemene-leden-vergadering-regio-utrecht?Itemid=101
DTSTART:20260420T173000Z
DTEND:20260420T200000Z
LOCATION:De Brug (Schuilenburgerweg  2\, 3816 TB Amersfoort)
SUMMARY:Algemene Leden Vergadering Regio Utrecht
URL:https://utrecht.hcc.nl/component/rseventspro/evenement/242-algemene-led
 en-vergadering-regio-utrecht?Itemid=101
END:VEVENT
BEGIN:VEVENT
UID:20260421T201153CEST-9721FdjCnr@https://utrecht.hcc.nl/
DTSTAMP:20260421T181153Z
DESCRIPTION:Mandfelijkse bijeenkomst van de werkgroep Linux in Fort Vreeswi
 jk in Nieuwegein https://utrecht.hcc.nl/component/rseventspro/evenement/24
 3-werkgroep-linux-regio-utrecht?Itemid=101
DTSTART:20260418T113000Z
DTEND:20260418T143000Z
LOCATION:Fort Vreeswijk (Fort Vreeswijk 1\, 3433 ZZ Nieuwegein)
SUMMARY:Werkgroep Linux regio Utrecht
URL:https://utrecht.hcc.nl/component/rseventspro/evenement/243-werkgroep-li
 nux-regio-utrecht?Itemid=101
END:VEVENT
BEGIN:VEVENT
UID:20260421T201153CEST-97225sgfDe@https://utrecht.hcc.nl/
DTSTAMP:20260421T181153Z
DESCRIPTION:We houden daar weer de gebruikelijke inloop waar maar 12 intere
 ssegroepen aanwezig zijn.\nZij kunnen je vragen gezamenlijk met je besprek
 en en je voorlichten over de nieuwe ontwikkelingen.\nDe aanwezige interess
 e groepen in Amersfoort zijn: Apple\, 3D printen\, HCC!genealogie\, Video 
 montage en Drone fotografie\, Fotografie\, PC techniek en Windows\, Modelb
 aanautomatisering\, Artificiele Intelligentie en Robotica. https://utrecht
 .hcc.nl/component/rseventspro/evenement/244-inloop?Itemid=101
DTSTART:20260420T173000Z
DTEND:20260420T180000Z
LOCATION:De Brug (Schuilenburgerweg  2\, 3816 TB Amersfoort)
SUMMARY:Inloop
URL:https://utrecht.hcc.nl/component/rseventspro/evenement/244-inloop?Itemi
 d=101
END:VEVENT
END:VCALENDAR
